BEGIN:VCALENDAR
VERSION:2.0
PRODID:-//Andar360 v1.0//EN
BEGIN:VEVENT
UID:amuncy@gotrberks.org
DTSTAMP:20260420T235206Z
DTSTART:20220504T040000Z
SUMMARY:5K Volunteer
DESCRIPTION:Opportunity: 5K Volunteer\nAgency: Girls On The Run Of Berks Co
 unty\n\n\nVolunteer as an individual or group at our fun and celebratory 5K
  events held each November and May! The 5K volunteer helps out in a variety
  of ways during our fall and spring 5K events. Volunteer to help set up and
  tear down, assisting at the registration table, directing people to parkin
 g, helping at the start/finish lines, helping the girls to prepare for the 
 race, serving post-race refreshments, course marshals, etc. There is so muc
 h joy in being a part of our 5K celebrations!\n\nOpportunity Type: Individu
 al and Team\nLength of Type: \nMinimum age required: 18\nRequired: Backgrou
 nd clearances may be required for some volunteer tasks. 
X-ALT-DESC;FMTTYPE=text/html:Opportunity: 5K Volunteer<br>Agency: <a href="
 https://ecommunity.uwberks.org/Volunteer/VolAgencyInfo.jsp?nbr=1481456">Gir
 ls On The Run Of Berks County</a><p><p>Volunteer as an individual or group 
 at our fun and celebratory 5K events held each November and May! The 5K vol
 unteer helps out in a variety of ways during our fall and spring 5K events.
  Volunteer to help set up and tear down, assisting at the registration tabl
 e, directing people to parking, helping at the start/finish lines, helping 
 the girls to prepare for the race, serving post-race refreshments, course m
 arshals, etc. There is so much joy in being a part of our 5K celebrations!<
 /p><p>Opportunity Type: Individual and Team<br>Length of Type: <br>Minimum 
 age required: 18<br>Required: Background clearances may be required for som
 e volunteer tasks. 
END:VEVENT
END:VCALENDAR