BEGIN:VCALENDAR
VERSION:2.0
PRODID:-//Andar360 v1.0//EN
BEGIN:VEVENT
UID:mgoodhart@berksencore.org
DTSTAMP:20260420T222814Z
DTSTART:20220524T040000Z
SUMMARY:Meals on Wheels Delivery Driver
DESCRIPTION:Opportunity: Meals on Wheels Delivery Driver\nAgency: Berks Enc
 ore\n\nDue to increased numbers of seniors requiring meals on wheels, there
  is a need is for volunteers to deliver meals to seniors who are homebound 
 due to illness, recovery, or disability. As a delivery driver, you are the 
 direct contact between an isolated senior and Berks Encore. Volunteers use 
 their own vehicles to pick up meals from one of six (6) sites, and generall
 y be available at least one (1) day weekly or monthly Monday through Friday
  between the hours of 9:30 am and noon. Pick-up sites for home-delivered me
 al routes are located in Douglassville, Fleetwood, Mifflin, Reading, Straus
 stown, and Wernersville. Help is needed at all locations.\n\nOpportunity Ty
 pe: Individual\nLength of Type: Ongoing\nMinimum age required: 18\nRequired
 :  \n\nPossess a reliable vehicle to pick-up and deliver meals and have a c
 ell phone for route communication. Possess a current Pennsylvania driver's 
 license, automobile insurance coverage and a clean DMV record Ability to fo
 llow confidentiality practices Complete Berks Encore volunteer application 
 and pass criminal background checks. \nSupplied: Training is provided
X-ALT-DESC;FMTTYPE=text/html:Opportunity: Meals on Wheels Delivery Driver<b
 r>Agency: <a href="https://ecommunity.uwberks.org/Volunteer/VolAgencyInfo.j
 sp?nbr=12120">Berks Encore</a><p><html><body><br><p>Due to increased number
 s of seniors requiring meals on wheels, there is a need is for volunteers t
 o deliver meals to seniors who are homebound due to illness, recovery, or d
 isability. As a delivery driver, you are the direct contact between an isol
 ated senior and Berks Encore. Volunteers use their own vehicles to pick up 
 meals from one of six (6) sites, and generally be available at least one (1
 ) day weekly or monthly Monday through Friday between the hours of 9:30 am 
 and noon. Pick-up sites for home-delivered meal routes are located in Dougl
 assville, Fleetwood, Mifflin, Reading, Strausstown, and Wernersville. Help 
 is needed at all locations.</p><br></body></html><p>Opportunity Type: Indiv
 idual<br>Length of Type: Ongoing<br>Minimum age required: 18<br>Required: <
 html><body>
<p>Possess a reliable vehicle to pick-up and deliver meals and 
 have a cell phone for route communication. Possess a current Pennsylvania d
 river's license, automobile insurance coverage and a clean DMV record Abili
 ty to follow confidentiality practices Complete Berks Encore volunteer appl
 ication and pass criminal background checks.</p>
</body></html><br>Supplied
 : Training is provided
END:VEVENT
END:VCALENDAR