BEGIN:VCALENDAR
VERSION:2.0
PRODID:-//Andar360 v1.0//EN
BEGIN:VEVENT
UID:executive@namiberks.org
DTSTAMP:20260421T014431Z
DTSTART:20211021T040000Z
SUMMARY:NAMI Peer-to-Peer Mentor
DESCRIPTION:Opportunity: NAMI Peer-to-Peer Mentor\nAgency: NAMI of PA, Berk
 s County Affiliate\n\n\nNAMI Peer-to-Peer is an 8-session, recovery-focused
  course, designed to aid adults (18+) who are experiencing mental health ch
 allenges achieve and maintain wellness. The course is taught by trained pee
 rs with lived experience. Classes follow a structured educational format th
 at includes opportunity for peer connection and support through learned wis
 dom and group discussion. Discussions are confidential. Interactive exercis
 es focus on mindfulness and meditation, relapse prevention, and practical c
 oping skills.\n\nLodging and Travel Information: Lodging and travel for in-
 person trainings are the responsibility of the applicant/ NAMI Affiliate.\n
 \nTraining Location, Date and Time: Trainings are currently being held onli
 ne. Trainings are held over two days. Training dates will be published on t
 his page. Applications will be accepted at any time and kept on a waiting l
 ist for the next available training.\n\nTraining Application will be requir
 ed.\n\nOpportunity Type: Individual and Team\nLength of Type: \nMinimum age
  required: 18\nRequired:  \n\nTraining Format: Currently all trainings will
  be held online. NAMI Peer-to-Peer Program Leader training is comprised of 
 two parts, online and in-person. The online component must be completed fir
 st. You will be required to have your own email in order to register for th
 e online training. Online training must be completed no less than 1 week pr
 ior to training date. You cannot attend the in-person training without comp
 leting the online training. Once participants have successfully completed t
 he online training, trainees will engage in a mandatory, 1.5 day in-person 
 training. Requests for online training must go through the local NAMI affil
 iate or NAMI Keystone PA (dference@namikeystonepa.org). \n\nCommitment to b
 e Peer-to-Peer mentor for NAMI Berks County for two 8-week Peer-to-Peer cla
 sses.   \n\n  \nSupplied:  \n\nLodging, Travel and Training costs covered b
 y NAMI Berks County PA.  Training materials are provided by NAMI.
X-ALT-DESC;FMTTYPE=text/html:Opportunity: NAMI Peer-to-Peer Mentor<br>Agenc
 y: <a href="https://ecommunity.uwberks.org/Volunteer/VolAgencyInfo.jsp?nbr=
 7963">NAMI of PA, Berks County Affiliate</a><p><p>NAMI Peer-to-Peer is an 8
 -session, recovery-focused course, designed to aid adults (18+) who are exp
 eriencing mental health challenges achieve and maintain wellness. The cours
 e is taught by trained peers with lived experience. Classes follow a struct
 ured educational format that includes opportunity for peer connection and s
 upport through learned wisdom and group discussion. Discussions are confide
 ntial. Interactive exercises focus on mindfulness and meditation, relapse p
 revention, and practical coping skills.</p><br><p>Lodging and Travel Inform
 ation: Lodging and travel for in-person trainings are the responsibility of
  the applicant/ NAMI Affiliate.</p><br><p>Training Location, Date and Time:
  Trainings are currently being held online. Trainings are held over two day
 s. Training dates will be published on this page. Applications will be acce
 pted at any time and kept on a waiting list for the next available training
 .</p><br><p>Training Application will be required.</p><p>Opportunity Type: 
 Individual and Team<br>Length of Type: <br>Minimum age required: 18<br>Requ
 ired: <html><body>
<p>Training Format:&nbsp;Currently all trainings will be
  held online.&nbsp;NAMI Peer-to-Peer Program Leader training is comprised o
 f two parts, online and in-person. The online component must be completed f
 irst. You will be required to have your own email in order to register for 
 the online training.&nbsp;Online training must be completed no less than 1 
 week prior to training date. You cannot attend the in-person training witho
 ut completing the online training.&nbsp;Once participants have successfully
  completed the online training, trainees will engage in a mandatory, 1.5 da
 y in-person training. Requests for online training&nbsp;must&nbsp;go throug
 h the local NAMI affiliate or NAMI Keystone PA (dference@namikeystonepa.org
 ).</p>
<p>Commitment to be Peer-to-Peer mentor for NAMI Berks County for tw
 o 8-week Peer-to-Peer classes.&nbsp;&nbsp;</p>
<p>&nbsp;</p>
</body></html>
 <br>Supplied: <html><body>
<p>Lodging, Travel and Training costs covered by
  NAMI Berks County PA.&nbsp; Training materials are provided by NAMI.</p>
<
 /body></html>
END:VEVENT
END:VCALENDAR