BEGIN:VCALENDAR
VERSION:2.0
PRODID:-//Andar360 v1.0//EN
BEGIN:VEVENT
UID:ann.borysowski@redcross.org
DTSTAMP:20260421T000227Z
DTSTART:20220909T040000Z
SUMMARY:Disaster Services:  Engagement Team Members
DESCRIPTION:Opportunity: Disaster Services: Engagement Team Members\nAgency
 : American Red Cross PA Rivers Chapter\n\n\n*Welcome new volunteers on to t
 he team and interact with current volunteers. *Help on-board new Disaster C
 ycle Services Volunteers, including in-person introduction meetings, advise
  about training, assist at new volunteer orientations, etc. *Follow-up with
  new and current volunteers, keeping them motivated and accountable. *Assig
 n fellow volunteers to sub-committees and special projects. *CAN WORK FROM 
 HOME OR REMOTE LOCATION OF YOUR CHOOSING\n\nOpportunity Type: Individual\nL
 ength of Type: One Time\nMinimum age required: 18\nRequired: *Commitment to
  Red Cross mission *Strong oral, written and in-person communication skills
  *Ability to follow up and encourage new & existing Red Cross Volunteers
X-ALT-DESC;FMTTYPE=text/html:Opportunity: Disaster Services:  Engagement Te
 am Members<br>Agency: <a href="https://ecommunity.uwberks.org/Volunteer/Vol
 AgencyInfo.jsp?nbr=11841">American Red Cross PA Rivers Chapter</a><p><p>*We
 lcome new volunteers on to the team and interact with current volunteers. *
 Help on-board new Disaster Cycle Services Volunteers, including in-person i
 ntroduction meetings, advise about training, assist at new volunteer orient
 ations, etc. *Follow-up with new and current volunteers, keeping them motiv
 ated and accountable. *Assign fellow volunteers to sub-committees and speci
 al projects. *CAN WORK FROM HOME OR REMOTE LOCATION OF YOUR CHOOSING</p><p>
 Opportunity Type: Individual<br>Length of Type: One Time<br>Minimum age req
 uired: 18<br>Required: *Commitment to Red Cross mission *Strong oral, writt
 en and in-person communication skills *Ability to follow up and encourage n
 ew & existing Red Cross Volunteers
END:VEVENT
END:VCALENDAR