BEGIN:VCALENDAR
VERSION:2.0
PRODID:-//Andar360 v1.0//EN
BEGIN:VEVENT
UID:ericac@safeberks.org
DTSTAMP:20260420T235323Z
DTSTART:20180209T050000Z
SUMMARY:Volunteer and Health Fair Worker
DESCRIPTION:Opportunity: Volunteer and Health Fair Worker\nAgency: Safe Ber
 ks\n\nAttend Health & Volunteer fairs on behalf of Safe Berks, answer quest
 ions, explain our services, etc.\n\nOpportunity Type: Individual\nLength of
  Type: One Time\nRequired: Required attendance of orientation class and kno
 wledge of Safe Berks
X-ALT-DESC;FMTTYPE=text/html:Opportunity: Volunteer and Health Fair Worker<
 br>Agency: <a href="https://ecommunity.uwberks.org/Volunteer/VolAgencyInfo.
 jsp?nbr=12161">Safe Berks</a><p>Attend Health & Volunteer fairs on behalf o
 f Safe Berks, answer questions, explain our services, etc.<p>Opportunity Ty
 pe: Individual<br>Length of Type: One Time<br>Required: Required attendance
  of orientation class and knowledge of Safe Berks
END:VEVENT
END:VCALENDAR