BEGIN:VCALENDAR
VERSION:2.0
PRODID:-//Andar360 v1.0//EN
BEGIN:VEVENT
UID:fraschg@thehighlands.org
DTSTAMP:20260420T233625Z
DTSTART:20260408T040000Z
DTEND:20260930T040000Z
SUMMARY:Direct Patient Volunteer
DESCRIPTION:Opportunity: Direct Patient Volunteer\nAgency: Aspire for Well-
 Being Hospice The Highlands at Wyomissing\n\n\nDo you enjoy helping others 
 and providing companionship? If you are a compassionate individual who enjo
 ys bringing peace and comfort to others? If so, our hospice volunteer progr
 am might be a great fit for you! \n\nOpportunity Type: Individual\nLength o
 f Type: \nMinimum age required: 18\nRequired: Hospice volunteers change liv
 es of many people that Aspire for Well-Being Hospice serves. Whether throug
 h a kind word, a listening ear, or a helping hand, their presence brings co
 mfort during life's most tender journeys.  Our volunteers find their role f
 ulfilling and rewarding by giving of their time to support others.   Whethe
 r it is lite conversation, playing cards, reading a book or magazine or lis
 tening to music, becoming a hospice volunteer for Aspire for Well-Being Hos
 pice at the Highlands, volunteers can create a rewarding experience for the
 mselves and the hospice patients they serve.    Prior to volunteering with 
 Aspire for Well Being Hospice, these tasks must be met; Consent to a PA Cri
 minal History Record Check Consent to a Child Abuse Clearance  Receive or p
 rovide proof of most current flu shot Receive or provide proof of the most 
 current COVID vaccine Completion of an application Training will be provide
 d to all volunteers prior to paring with a patient.  Aspire for Well-Being 
 Hospice is dedicated to providing patients and families with qualify care a
 nd comfort while upholding dignity at end-of-life. 
X-ALT-DESC;FMTTYPE=text/html:Opportunity: Direct Patient Volunteer<br>Agenc
 y: <a href="https://ecommunity.uwberks.org/Volunteer/VolAgencyInfo.jsp?nbr=
 2223469">Aspire for Well-Being Hospice The Highlands at Wyomissing</a><p><p
 >Do you enjoy helping others and providing companionship? If you are a comp
 assionate individual who enjoys bringing peace and comfort to others? If so
 , our hospice volunteer program might be a great fit for you!&nbsp;</p><p>O
 pportunity Type: Individual<br>Length of Type: <br>Minimum age required: 18
 <br>Required: Hospice volunteers change lives of many people that Aspire fo
 r Well-Being Hospice serves. Whether through a kind word, a listening ear, 
 or a helping hand, their presence brings comfort during life's most tender 
 journeys.  Our volunteers find their role fulfilling and rewarding by givin
 g of their time to support others.   Whether it is lite conversation, playi
 ng cards, reading a book or magazine or listening to music, becoming a hosp
 ice volunteer for Aspire for Well-Being Hospice at the Highlands, volunteer
 s can create a rewarding experience for themselves and the hospice patients
  they serve.   

Prior to volunteering with Aspire for Well Being Hospice,
  these tasks must be met;

Consent to a PA Criminal History Record Check
 
Consent to a Child Abuse Clearance 
Receive or provide proof of most curr
 ent flu shot
Receive or provide proof of the most current COVID vaccine
C
 ompletion of an application


Training will be provided to all volunteers
  prior to paring with a patient. 

Aspire for Well-Being Hospice is dedica
 ted to providing patients and families with qualify care and comfort while 
 upholding dignity at end-of-life. 
END:VEVENT
END:VCALENDAR