BEGIN:VCALENDAR
VERSION:2.0
PRODID:-//Andar360 v1.0//EN
BEGIN:VEVENT
UID:colonialmanoradulthome@gmail.com
DTSTAMP:20260420T235527Z
DTSTART:20180420T040000Z
SUMMARY:Share your talents!
DESCRIPTION:Opportunity: Share your talents!\nAgency: Down On The Farm Adul
 t Daycare & Respite\n\nLooking for artists, musicians, fitness instructors,
  yoga instructors, mindfulness/meditation instructors, etc. to share their 
 talents and insights with individuals living with mental illness or dual di
 agnoses. As many of our residents do not have the means available to go to 
 live shows and classes, we are hopeful to bring the fun to them! We have pl
 enty of space available both indoors and outdoors for artist set-up. Artist
 s of all ages welcome. We ask that anyone under the age of 18 be accompanie
 d by an adult.\n\nOpportunity Type: Individual\nLength of Type: One Time\nM
 inimum age required: 18
X-ALT-DESC;FMTTYPE=text/html:Opportunity: Share your talents!<br>Agency: <a
  href="https://ecommunity.uwberks.org/Volunteer/VolAgencyInfo.jsp?nbr=14812
 17">Down On The Farm Adult Daycare & Respite</a><p>Looking for artists, mus
 icians, fitness instructors, yoga instructors, mindfulness/meditation instr
 uctors, etc. to share their talents and insights with individuals living wi
 th mental illness or dual diagnoses.  As many of our residents do not have 
 the means available to go to live shows and classes, we are hopeful to brin
 g the fun to them! We have plenty of space available both indoors and outdo
 ors for artist set-up. Artists of all ages welcome. We ask that anyone unde
 r the age of 18 be accompanied by an adult.<p>Opportunity Type: Individual<
 br>Length of Type: One Time<br>Minimum age required: 18
END:VEVENT
END:VCALENDAR