BEGIN:VCALENDAR
VERSION:2.0
PRODID:-//Andar360 v1.0//EN
BEGIN:VEVENT
UID:ericac@safeberks.org
DTSTAMP:20260420T235206Z
DTSTART:20180208T050000Z
SUMMARY:Safe House/Hot Line Call Taker
DESCRIPTION:Opportunity: Safe House/Hot Line Call Taker\nAgency: Safe Berks
 \n\nAnswer crisis hotline calls and text line communications from survivors
  of domestic violence and sexual assault, assist clients of our Safe House 
 with signing in or out of Safe House, help clients with basic needs, etc.\n
 \nOpportunity Type: Individual\nLength of Type: One Time\nRequired: Crimina
 l Background Check, ChildLine clearance, confidentiality statements, and co
 mpletion of our 66-hours of training; the training is required by PCADV/PCA
 R for all staff and volunteers with direct client contact.
X-ALT-DESC;FMTTYPE=text/html:Opportunity: Safe House/Hot Line Call Taker<br
 >Agency: <a href="https://ecommunity.uwberks.org/Volunteer/VolAgencyInfo.js
 p?nbr=12161">Safe Berks</a><p>Answer crisis  hotline calls and text line co
 mmunications from survivors of domestic violence and sexual assault, assist
  clients of our Safe House with signing in or out of Safe House, help clien
 ts with basic needs, etc.<p>Opportunity Type: Individual<br>Length of Type:
  One Time<br>Required: Criminal Background Check, ChildLine clearance, conf
 identiality statements, and  completion of our 66-hours of training; the tr
 aining is required by PCADV/PCAR for all staff and volunteers with direct c
 lient contact.
END:VEVENT
END:VCALENDAR