BEGIN:VCALENDAR
VERSION:2.0
PRODID:-//Andar360 v1.0//EN
BEGIN:VEVENT
UID:colonialmanoradulthome@gmail.com
DTSTAMP:20260421T014956Z
DTSTART:20180420T040000Z
SUMMARY:Recreational Volunteer
DESCRIPTION:Opportunity: Recreational Volunteer\nAgency: Down On The Farm A
 dult Daycare & Respite\n\nLooking for creative, energetic, and compassionat
 e volunteers to assist in leading recreational activities with our resident
 s. Volunteers must be at least 18 years of age. Recreational activities cou
 ld include arts and crafts, walking outside, board games, puzzles, painting
 , coloring, playing cards, as well as any other ideas that you may have to 
 help our residents enjoy their leisure time. We are located on 20 acres of 
 land with outdoor animals, so many activity ideas are do-able!\n\nOpportuni
 ty Type: Individual\nLength of Type: Ongoing\nMinimum age required: 18
X-ALT-DESC;FMTTYPE=text/html:Opportunity: Recreational Volunteer<br>Agency:
  <a href="https://ecommunity.uwberks.org/Volunteer/VolAgencyInfo.jsp?nbr=14
 81217">Down On The Farm Adult Daycare & Respite</a><p>Looking for creative,
  energetic, and compassionate volunteers to assist in leading recreational 
 activities with our residents. Volunteers must be at least 18 years of age.
  Recreational activities could include arts and crafts, walking outside, bo
 ard games, puzzles, painting, coloring, playing cards, as well as any other
  ideas that you may have to help our residents enjoy their leisure time. We
  are located on 20 acres of land with outdoor animals, so many activity ide
 as are do-able!<p>Opportunity Type: Individual<br>Length of Type: Ongoing<b
 r>Minimum age required: 18
END:VEVENT
END:VCALENDAR