BEGIN:VCALENDAR
VERSION:2.0
PRODID:-//Andar360 v1.0//EN
BEGIN:VEVENT
UID:executive@namiberks.org
DTSTAMP:20260420T235006Z
DTSTART:20190912T040000Z
SUMMARY:NAMI Office work preparing mailings, label brochures, copying
DESCRIPTION:Opportunity: NAMI Office work preparing mailings, label brochur
 es, copying\nAgency: NAMI of PA, Berks County Affiliate\n\nVolunteer tasks 
 include: Prepare mailings, inventory and label brochures, copy NAMI course 
 manuals, copy NAMI program flyers, copy resource information for community 
 events, sort and fold NAMI t-shirts and additional tasks may be added as ne
 eded. Bilingual helpful.\n\nOpportunity Type: Individual and Team\nLength o
 f Type: One Time\nMinimum age required: 18\nRequired:  \n\nDress in comfort
 able clothing. Work will be done indoors. \nSupplied:  \n\nWater, snacks, N
 AMI Berks County t-shirt, NAMI resource information
X-ALT-DESC;FMTTYPE=text/html:Opportunity: NAMI Office work preparing mailin
 gs, label brochures, copying<br>Agency: <a href="https://ecommunity.uwberks
 .org/Volunteer/VolAgencyInfo.jsp?nbr=7963">NAMI of PA, Berks County Affilia
 te</a><p><html><body><br><p>Volunteer tasks include: Prepare mailings, inve
 ntory and label brochures, copy NAMI course manuals, copy NAMI program flye
 rs, copy resource information for community events, sort and fold NAMI t-sh
 irts and additional tasks may be added as needed. Bilingual helpful.</p><br
 ></body></html><p>Opportunity Type: Individual and Team<br>Length of Type: 
 One Time<br>Minimum age required: 18<br>Required: <html><body>
<p>Dress in 
 comfortable clothing. Work will be done indoors.</p>
</body></html><br>Supp
 lied: <html><body>
<p>Water, snacks, NAMI Berks County t-shirt, NAMI resour
 ce information</p>
</body></html>
END:VEVENT
END:VCALENDAR